BEGIN:VCALENDAR
VERSION:2.0
PRODID:-//Books by Susan W. Green - ECPv6.15.20//NONSGML v1.0//EN
CALSCALE:GREGORIAN
METHOD:PUBLISH
X-WR-CALNAME:Books by Susan W. Green
X-ORIGINAL-URL:https://booksbysusanwgreen.com
X-WR-CALDESC:Events for Books by Susan W. Green
REFRESH-INTERVAL;VALUE=DURATION:PT1H
X-Robots-Tag:noindex
X-PUBLISHED-TTL:PT1H
BEGIN:VTIMEZONE
TZID:America/New_York
BEGIN:DAYLIGHT
TZOFFSETFROM:-0500
TZOFFSETTO:-0400
TZNAME:EDT
DTSTART:20240310T070000
END:DAYLIGHT
BEGIN:STANDARD
TZOFFSETFROM:-0400
TZOFFSETTO:-0500
TZNAME:EST
DTSTART:20241103T060000
END:STANDARD
BEGIN:DAYLIGHT
TZOFFSETFROM:-0500
TZOFFSETTO:-0400
TZNAME:EDT
DTSTART:20250309T070000
END:DAYLIGHT
BEGIN:STANDARD
TZOFFSETFROM:-0400
TZOFFSETTO:-0500
TZNAME:EST
DTSTART:20251102T060000
END:STANDARD
BEGIN:DAYLIGHT
TZOFFSETFROM:-0500
TZOFFSETTO:-0400
TZNAME:EDT
DTSTART:20260308T070000
END:DAYLIGHT
BEGIN:STANDARD
TZOFFSETFROM:-0400
TZOFFSETTO:-0500
TZNAME:EST
DTSTART:20261101T060000
END:STANDARD
END:VTIMEZONE
BEGIN:VEVENT
DTSTART;TZID=America/New_York:20250301T080000
DTEND;TZID=America/New_York:20250301T100000
DTSTAMP:20260424T084412
CREATED:20250220T063421Z
LAST-MODIFIED:20250220T063611Z
UID:1271-1740816000-1740823200@booksbysusanwgreen.com
SUMMARY:Local Author Showcase
DESCRIPTION:Join in the fun for this author day\, where published authors will speak about\, sell\, and sign their work. Aspiring authors\, local writers\, and book lovers alike are all invited! \nRegistration for audience members encouraged\, drop-ins welcome! https://delawarelibraries.libcal.com/event/13898726 \nDate: Saturday\, March 1\, 2025\nTime: 1:00pm – 3:00pm Eastern Time\nLocation: Meeting Room 1B\nLibrary: Bear Public Library\nAudience: Adults
URL:https://booksbysusanwgreen.com/event/local-author-showcase/
LOCATION:Bear Public Library\, 101 Governors Pl\, Bear\, DE\, 19701\, United States
ATTACH;FMTTYPE=image/png:https://booksbysusanwgreen.com/wp-content/uploads/2025/02/Author-Showcase.png
END:VEVENT
END:VCALENDAR