BEGIN:VCALENDAR
VERSION:2.0
PRODID:-//Books by Susan W. Green - ECPv6.15.20//NONSGML v1.0//EN
CALSCALE:GREGORIAN
METHOD:PUBLISH
X-WR-CALNAME:Books by Susan W. Green
X-ORIGINAL-URL:https://booksbysusanwgreen.com
X-WR-CALDESC:Events for Books by Susan W. Green
REFRESH-INTERVAL;VALUE=DURATION:PT1H
X-Robots-Tag:noindex
X-PUBLISHED-TTL:PT1H
BEGIN:VTIMEZONE
TZID:America/New_York
BEGIN:DAYLIGHT
TZOFFSETFROM:-0500
TZOFFSETTO:-0400
TZNAME:EDT
DTSTART:20240310T070000
END:DAYLIGHT
BEGIN:STANDARD
TZOFFSETFROM:-0400
TZOFFSETTO:-0500
TZNAME:EST
DTSTART:20241103T060000
END:STANDARD
BEGIN:DAYLIGHT
TZOFFSETFROM:-0500
TZOFFSETTO:-0400
TZNAME:EDT
DTSTART:20250309T070000
END:DAYLIGHT
BEGIN:STANDARD
TZOFFSETFROM:-0400
TZOFFSETTO:-0500
TZNAME:EST
DTSTART:20251102T060000
END:STANDARD
BEGIN:DAYLIGHT
TZOFFSETFROM:-0500
TZOFFSETTO:-0400
TZNAME:EDT
DTSTART:20260308T070000
END:DAYLIGHT
BEGIN:STANDARD
TZOFFSETFROM:-0400
TZOFFSETTO:-0500
TZNAME:EST
DTSTART:20261101T060000
END:STANDARD
END:VTIMEZONE
BEGIN:VEVENT
DTSTART;TZID=America/New_York:20250329T050000
DTEND;TZID=America/New_York:20250329T100000
DTSTAMP:20260424T084412
CREATED:20250328T185930Z
LAST-MODIFIED:20250328T185930Z
UID:1275-1743224400-1743242400@booksbysusanwgreen.com
SUMMARY:Annual Spring Craft Show + Egg Hunt
DESCRIPTION:Annual Spring Craft Show – 60+ of local vendors\nFood Prepared and Sold by Rising Sun Fire\nOutdoor Egg Hunt for kids
URL:https://booksbysusanwgreen.com/event/annual-spring-craft-show-egg-hunt/
LOCATION:Rising Sun Banquet Hall\, 300 Joseph Biggs Memorial Hwy\, Rising Sun\, 21911\, United States
ATTACH;FMTTYPE=image/jpeg:https://booksbysusanwgreen.com/wp-content/uploads/2025/03/Craft-Show-and-Egg-Hunt.jpg
ORGANIZER;CN="Community Fire Department of Rising Sun":MAILTO:CFCRSevents@gmail.com
END:VEVENT
END:VCALENDAR