BEGIN:VCALENDAR
VERSION:2.0
PRODID:-//Books by Susan W. Green - ECPv6.15.20//NONSGML v1.0//EN
CALSCALE:GREGORIAN
METHOD:PUBLISH
X-WR-CALNAME:Books by Susan W. Green
X-ORIGINAL-URL:https://booksbysusanwgreen.com
X-WR-CALDESC:Events for Books by Susan W. Green
REFRESH-INTERVAL;VALUE=DURATION:PT1H
X-Robots-Tag:noindex
X-PUBLISHED-TTL:PT1H
BEGIN:VTIMEZONE
TZID:America/New_York
BEGIN:DAYLIGHT
TZOFFSETFROM:-0500
TZOFFSETTO:-0400
TZNAME:EDT
DTSTART:20240310T070000
END:DAYLIGHT
BEGIN:STANDARD
TZOFFSETFROM:-0400
TZOFFSETTO:-0500
TZNAME:EST
DTSTART:20241103T060000
END:STANDARD
BEGIN:DAYLIGHT
TZOFFSETFROM:-0500
TZOFFSETTO:-0400
TZNAME:EDT
DTSTART:20250309T070000
END:DAYLIGHT
BEGIN:STANDARD
TZOFFSETFROM:-0400
TZOFFSETTO:-0500
TZNAME:EST
DTSTART:20251102T060000
END:STANDARD
BEGIN:DAYLIGHT
TZOFFSETFROM:-0500
TZOFFSETTO:-0400
TZNAME:EDT
DTSTART:20260308T070000
END:DAYLIGHT
BEGIN:STANDARD
TZOFFSETFROM:-0400
TZOFFSETTO:-0500
TZNAME:EST
DTSTART:20261101T060000
END:STANDARD
END:VTIMEZONE
BEGIN:VEVENT
DTSTART;TZID=America/New_York:20251214T080000
DTEND;TZID=America/New_York:20251214T110000
DTSTAMP:20260423T191501
CREATED:20251113T071337Z
LAST-MODIFIED:20251124T004746Z
UID:1422-1765699200-1765710000@booksbysusanwgreen.com
SUMMARY:Kathy's Corner Shop
DESCRIPTION:Susan W. Green will be signing her award-winning books at Kathy’s Corner Shop on Sunday\, December 14\, 2025 from 1-4pm. \nThere will be food\, fun\, and SALES throughout the shop in anticipation of the holidays! Come enjoy some last minute gift shopping.
URL:https://booksbysusanwgreen.com/event/kathys-corner-shop-2/
LOCATION:Kathy’s Corner Shop\, 100 S Main St\, North East\, MD\, 21901\, United States
ATTACH;FMTTYPE=image/jpeg:https://booksbysusanwgreen.com/wp-content/uploads/2025/11/Kathys-Corner-Shop-Book-Signing.jpg
END:VEVENT
END:VCALENDAR