BEGIN:VCALENDAR
VERSION:2.0
PRODID:-//Books by Susan W. Green - ECPv6.15.20//NONSGML v1.0//EN
CALSCALE:GREGORIAN
METHOD:PUBLISH
X-WR-CALNAME:Books by Susan W. Green
X-ORIGINAL-URL:https://booksbysusanwgreen.com
X-WR-CALDESC:Events for Books by Susan W. Green
REFRESH-INTERVAL;VALUE=DURATION:PT1H
X-Robots-Tag:noindex
X-PUBLISHED-TTL:PT1H
BEGIN:VTIMEZONE
TZID:America/New_York
BEGIN:DAYLIGHT
TZOFFSETFROM:-0500
TZOFFSETTO:-0400
TZNAME:EDT
DTSTART:20250309T070000
END:DAYLIGHT
BEGIN:STANDARD
TZOFFSETFROM:-0400
TZOFFSETTO:-0500
TZNAME:EST
DTSTART:20251102T060000
END:STANDARD
BEGIN:DAYLIGHT
TZOFFSETFROM:-0500
TZOFFSETTO:-0400
TZNAME:EDT
DTSTART:20260308T070000
END:DAYLIGHT
BEGIN:STANDARD
TZOFFSETFROM:-0400
TZOFFSETTO:-0500
TZNAME:EST
DTSTART:20261101T060000
END:STANDARD
BEGIN:DAYLIGHT
TZOFFSETFROM:-0500
TZOFFSETTO:-0400
TZNAME:EDT
DTSTART:20270314T070000
END:DAYLIGHT
BEGIN:STANDARD
TZOFFSETFROM:-0400
TZOFFSETTO:-0500
TZNAME:EST
DTSTART:20271107T060000
END:STANDARD
END:VTIMEZONE
BEGIN:VEVENT
DTSTART;TZID=America/New_York:20260425T100000
DTEND;TZID=America/New_York:20260425T130000
DTSTAMP:20260423T130408
CREATED:20260327T145808Z
LAST-MODIFIED:20260327T145808Z
UID:1578-1777111200-1777122000@booksbysusanwgreen.com
SUMMARY:Mid-County Spring Craft Fair
DESCRIPTION:I’m excited to be part of the Mid-County Center’s Second Annual Craft Fair! \nJoin me for a fun\, community-centered day filled with over 20 local vendors\, handmade goods\, and more — and be sure to stop by my table while you’re there! I’ll have copies of my books available and would love to meet you. Mid-County Center helps people age well! As part of their fundraising efforts come out on April 25th to support Mid-County’s no-membership fee senior center.\n\n Books available for purchase – including my newest release! Meet the author\n Mid-County Senior Center1 First Regiment Rd\, Wilmington\, DE Saturday\, April 25th 10:00 am – 1:00 pm Free admission\nCome out\, browse the craft show\, and support local the senior center — I hope to see you there!
URL:https://booksbysusanwgreen.com/event/mid-county-spring-craft-fair/
LOCATION:Mid-County Senior Center\, 1 First Regiment Rd\, Wilmington\, DE\, 19808\, United States
ATTACH;FMTTYPE=image/jpeg:https://booksbysusanwgreen.com/wp-content/uploads/2026/03/1000003693-e1774621914664.jpg
ORGANIZER;CN="Mid-County Senior Center":MAILTO:info@midcountyseniorcenter.org
END:VEVENT
END:VCALENDAR