BEGIN:VCALENDAR
VERSION:2.0
PRODID:-//Books by Susan W. Green - ECPv6.15.20//NONSGML v1.0//EN
CALSCALE:GREGORIAN
METHOD:PUBLISH
X-WR-CALNAME:Books by Susan W. Green
X-ORIGINAL-URL:https://booksbysusanwgreen.com
X-WR-CALDESC:Events for Books by Susan W. Green
REFRESH-INTERVAL;VALUE=DURATION:PT1H
X-Robots-Tag:noindex
X-PUBLISHED-TTL:PT1H
BEGIN:VTIMEZONE
TZID:America/New_York
BEGIN:DAYLIGHT
TZOFFSETFROM:-0500
TZOFFSETTO:-0400
TZNAME:EDT
DTSTART:20250309T070000
END:DAYLIGHT
BEGIN:STANDARD
TZOFFSETFROM:-0400
TZOFFSETTO:-0500
TZNAME:EST
DTSTART:20251102T060000
END:STANDARD
BEGIN:DAYLIGHT
TZOFFSETFROM:-0500
TZOFFSETTO:-0400
TZNAME:EDT
DTSTART:20260308T070000
END:DAYLIGHT
BEGIN:STANDARD
TZOFFSETFROM:-0400
TZOFFSETTO:-0500
TZNAME:EST
DTSTART:20261101T060000
END:STANDARD
BEGIN:DAYLIGHT
TZOFFSETFROM:-0500
TZOFFSETTO:-0400
TZNAME:EDT
DTSTART:20270314T070000
END:DAYLIGHT
BEGIN:STANDARD
TZOFFSETFROM:-0400
TZOFFSETTO:-0500
TZNAME:EST
DTSTART:20271107T060000
END:STANDARD
END:VTIMEZONE
BEGIN:VEVENT
DTSTART;TZID=America/New_York:20260808T100000
DTEND;TZID=America/New_York:20260808T140000
DTSTAMP:20260423T174238
CREATED:20260314T150046Z
LAST-MODIFIED:20260314T150239Z
UID:1560-1786183200-1786197600@booksbysusanwgreen.com
SUMMARY:Book Fair at Bel Air 2026
DESCRIPTION:Overview: Why Attend?\n🌟 Meet New Authors: Find your next favorite read by meeting and chatting with the authors themselves! \n🎉 Community Vibes: Connect with fellow book enthusiasts\, make new friends\, and share the excitement of discovering new worlds within the pages of a book. \n📖 Literary Delights: Get lost in a literary wonderland with a diverse selection of books from various genres. This festival is a treasure trove for book lovers! \n📚 Kid-Friendly Fun: Foster a love for reading in the younger generation! Our festival offers family-friendly activities for all ages including interactive storytelling\, face painting\, book-related games for the little ones\, and so much more! \nEvent Highlights\n Meet 100+ Authors Across All Genres and Ages \n Shop Unique Bookish Merchandise \n Games and Crafts for Kids \n Face Painting \n Fun Photo Opportunities \n Visit with Pete the Cat \nSave the Date!\n Mark your calendars for a day filled with literary joy: SATURDAY\, AUGUST 8\, 2026 \n 10AM – 2PM \nLocation\n APGFCU Arena at Harford County Community College – Adjacent to the Susquehanna Center at HCC\, 401 Thomas Run Rd.\, Bel Air\, MD 21015 \nFor more information\, please click here. \nTickets\n Entrance to the Book Fair at Bel Air is absolutely free! No tickets required. \n\nJoin us as we celebrate the written word\, share stories\, and create lasting memories at the Book Fair at Bel Air.
URL:https://booksbysusanwgreen.com/event/book-fair-at-bel-air-2026/
LOCATION:APGFCU Arena at Harford County Community College\, 401 Thomas Run Rd.\,\, Bel Air\, Maryland\, 21015\, United States
ATTACH;FMTTYPE=image/png:https://booksbysusanwgreen.com/wp-content/uploads/2026/03/Susan-W.-Green-e1773500106985.png
ORGANIZER;CN="Book Fair at Bel Air":MAILTO:bookfairatbelair@gmail.com
END:VEVENT
END:VCALENDAR