BEGIN:VCALENDAR
VERSION:2.0
PRODID:-//Books by Susan W. Green - ECPv6.15.20//NONSGML v1.0//EN
CALSCALE:GREGORIAN
METHOD:PUBLISH
X-WR-CALNAME:Books by Susan W. Green
X-ORIGINAL-URL:https://booksbysusanwgreen.com
X-WR-CALDESC:Events for Books by Susan W. Green
REFRESH-INTERVAL;VALUE=DURATION:PT1H
X-Robots-Tag:noindex
X-PUBLISHED-TTL:PT1H
BEGIN:VTIMEZONE
TZID:America/New_York
BEGIN:DAYLIGHT
TZOFFSETFROM:-0500
TZOFFSETTO:-0400
TZNAME:EDT
DTSTART:20250309T070000
END:DAYLIGHT
BEGIN:STANDARD
TZOFFSETFROM:-0400
TZOFFSETTO:-0500
TZNAME:EST
DTSTART:20251102T060000
END:STANDARD
BEGIN:DAYLIGHT
TZOFFSETFROM:-0500
TZOFFSETTO:-0400
TZNAME:EDT
DTSTART:20260308T070000
END:DAYLIGHT
BEGIN:STANDARD
TZOFFSETFROM:-0400
TZOFFSETTO:-0500
TZNAME:EST
DTSTART:20261101T060000
END:STANDARD
BEGIN:DAYLIGHT
TZOFFSETFROM:-0500
TZOFFSETTO:-0400
TZNAME:EDT
DTSTART:20270314T070000
END:DAYLIGHT
BEGIN:STANDARD
TZOFFSETFROM:-0400
TZOFFSETTO:-0500
TZNAME:EST
DTSTART:20271107T060000
END:STANDARD
END:VTIMEZONE
BEGIN:VEVENT
DTSTART;TZID=America/New_York:20260823T140000
DTEND;TZID=America/New_York:20260823T160000
DTSTAMP:20260423T180206
CREATED:20260314T151419Z
LAST-MODIFIED:20260314T151448Z
UID:1567-1787493600-1787500800@booksbysusanwgreen.com
SUMMARY:Delaware Authors Forum Presents: Marketing Strategies for the Freelance Writer\, A Panel Discussion
DESCRIPTION:Overview: If you’re a freelance writer\, especially a self-published author\, being skilled in marketing is essential. The simple truth is\, publishers today place the onus on writers to promote their books. How do you create an effective marketing plan? How do you develop relationships with your readers? \nJoin us for a panel discussion on how to create and manage your website and social media presence\, orchestrate book releases and book signings\, assemble your promo materials\, and so much more. Our six panelists–Susan Green\, Lois Hoffman\, Liz DeJesus\, Fran Severn-Levy\, Marc Avery\, and Weldon Burge–have experience with book marketing\, and look forward to sharing their tips and advice. Bring your questions! \nThis is a free event\, but registration is highly encouraged!
URL:https://booksbysusanwgreen.com/event/delaware-authors-forum-presents-marketing-strategies-for-the-freelance-writer-a-panel-discussion/
LOCATION:Kirkwood Highway Library\, 6000 Kirkwood Highway\, Wilmington\, DE\, 19808
ATTACH;FMTTYPE=image/jpeg:https://booksbysusanwgreen.com/wp-content/uploads/2026/03/Marketing-Strategies.jpg
END:VEVENT
BEGIN:VEVENT
DTSTART;TZID=America/New_York:20260927T140000
DTEND;TZID=America/New_York:20260927T160000
DTSTAMP:20260423T180206
CREATED:20260314T152721Z
LAST-MODIFIED:20260314T152721Z
UID:1571-1790517600-1790524800@booksbysusanwgreen.com
SUMMARY:Delaware Authors Forum Presents: Organizing Your Writing Life\, a Panel Discussion
DESCRIPTION:Overview: As a freelance writer\, how can you best manage your writing time\, especially if you have a full-time job and a family? How do you keep your work and submissions on track? Are there strategies and tools to help you streamline your production and make life a little easier to handle? \nJoin our panel discussion as we discuss how to simplify your life while enhancing your writing. Our panel of experienced writers will share their advice on how to organize your writing life and develop strategies that best suit your goals and current situation. Our panelists include Susan W. Green\, Bruce Rule\, Margo McKenzie\, Phoenix Grimm\, Fran Severn-Levy\, and Kimberly Kurth Gray. Weldon Burge will be the moderator for the event. A book signing will follow the discussion. \nThis is a FREE event\, but registration is highly encouraged.
URL:https://booksbysusanwgreen.com/event/delaware-authors-forum-presents-organizing-your-writing-life-a-panel-discussion/
LOCATION:Kirkwood Highway Library\, 6000 Kirkwood Highway\, Wilmington\, DE\, 19808
ATTACH;FMTTYPE=image/jpeg:https://booksbysusanwgreen.com/wp-content/uploads/2026/03/Organizing-Your-Writing-Life.jpg
END:VEVENT
BEGIN:VEVENT
DTSTART;TZID=America/New_York:20261011T163000
DTEND;TZID=America/New_York:20261011T180000
DTSTAMP:20260423T180206
CREATED:20260314T150931Z
LAST-MODIFIED:20260314T150931Z
UID:1565-1791736200-1791741600@booksbysusanwgreen.com
SUMMARY:Surprise - It’s a Launch Party
DESCRIPTION:Overview: SHHHH! We have another exciting addition to the beloved\, Crystal Lake Series. Join us at the Hockessin Book Shelf on October 11th to learn more! More details will be made available as the event gets closer\, but be sure to save the date for our next launch party!
URL:https://booksbysusanwgreen.com/event/surprise-its-a-launch-party/
LOCATION:Hockessin BookShelf\, 719 Lancaster Pike\, Hockessin\, DE\, 19707\, United States
ATTACH;FMTTYPE=image/png:https://booksbysusanwgreen.com/wp-content/uploads/2025/04/Hockessin-Bookshelf-e1760178863809.png
ORGANIZER;CN="Hockessin BookShelf":MAILTO:hockessinbookshelf@gmail.com
END:VEVENT
BEGIN:VEVENT
DTSTART;TZID=America/New_York:20261024T090000
DTEND;TZID=America/New_York:20261024T140000
DTSTAMP:20260423T180206
CREATED:20260314T145057Z
LAST-MODIFIED:20260314T145057Z
UID:1557-1792832400-1792850400@booksbysusanwgreen.com
SUMMARY:Conrad Alumni Fall Craft Show
DESCRIPTION:Overview: Award-Winning Author\, Susan W. Green will be selling and signing books at the Conrad Alumni Fall Craft Show. The annual craft show will be held on Saturday\, October 24th from 9:00 am to 2:00 pm. This event is free and open to the public. As more event details become available\, we will share them here.
URL:https://booksbysusanwgreen.com/event/conrad-alumni-fall-craft-show/
LOCATION:Conrad Schools of Science Gym\, 201 Jackson Ave\, Wilmington\, DE\, 19804\, United States
ATTACH;FMTTYPE=image/png:https://booksbysusanwgreen.com/wp-content/uploads/2026/03/Conrad-School-of-Science.png
END:VEVENT
END:VCALENDAR