BEGIN:VCALENDAR
VERSION:2.0
PRODID:-//Books by Susan W. Green - ECPv6.15.20//NONSGML v1.0//EN
CALSCALE:GREGORIAN
METHOD:PUBLISH
X-ORIGINAL-URL:https://booksbysusanwgreen.com
X-WR-CALDESC:Events for Books by Susan W. Green
REFRESH-INTERVAL;VALUE=DURATION:PT1H
X-Robots-Tag:noindex
X-PUBLISHED-TTL:PT1H
BEGIN:VTIMEZONE
TZID:America/New_York
BEGIN:DAYLIGHT
TZOFFSETFROM:-0500
TZOFFSETTO:-0400
TZNAME:EDT
DTSTART:20230312T070000
END:DAYLIGHT
BEGIN:STANDARD
TZOFFSETFROM:-0400
TZOFFSETTO:-0500
TZNAME:EST
DTSTART:20231105T060000
END:STANDARD
BEGIN:DAYLIGHT
TZOFFSETFROM:-0500
TZOFFSETTO:-0400
TZNAME:EDT
DTSTART:20240310T070000
END:DAYLIGHT
BEGIN:STANDARD
TZOFFSETFROM:-0400
TZOFFSETTO:-0500
TZNAME:EST
DTSTART:20241103T060000
END:STANDARD
BEGIN:DAYLIGHT
TZOFFSETFROM:-0500
TZOFFSETTO:-0400
TZNAME:EDT
DTSTART:20250309T070000
END:DAYLIGHT
BEGIN:STANDARD
TZOFFSETFROM:-0400
TZOFFSETTO:-0500
TZNAME:EST
DTSTART:20251102T060000
END:STANDARD
END:VTIMEZONE
BEGIN:VEVENT
DTSTART;TZID=America/New_York:20240628T060000
DTEND;TZID=America/New_York:20240628T190000
DTSTAMP:20260424T230554
CREATED:20240628T035321Z
LAST-MODIFIED:20240628T035631Z
UID:1156-1719554400-1719601200@booksbysusanwgreen.com
SUMMARY:READ Book Club
DESCRIPTION:Join us for READ Book Club on Friday at 10am\, in-person in NCC or via Zoom with author Susan W. Green discussing her book\, Crystal Lake Inn.\nRegister at form.jotform.com/212423915497157\nPlease note that membership is required to attend this event. \n 
URL:https://booksbysusanwgreen.com/event/read-book-club/
LOCATION:New Castle County Office\, 4810 Lancaster Pk\, Wilmington\, 19807\, United States
ATTACH;FMTTYPE=image/jpeg:https://booksbysusanwgreen.com/wp-content/uploads/2024/06/READ-Book-Club-e1719532552767.jpg
ORGANIZER;CN="Cancer Support Community Delaware":MAILTO:npickles@cscde.org
END:VEVENT
END:VCALENDAR