BEGIN:VCALENDAR
VERSION:2.0
PRODID:-//Books by Susan W. Green - ECPv6.15.20//NONSGML v1.0//EN
CALSCALE:GREGORIAN
METHOD:PUBLISH
X-WR-CALNAME:Books by Susan W. Green
X-ORIGINAL-URL:https://booksbysusanwgreen.com
X-WR-CALDESC:Events for Books by Susan W. Green
REFRESH-INTERVAL;VALUE=DURATION:PT1H
X-Robots-Tag:noindex
X-PUBLISHED-TTL:PT1H
BEGIN:VTIMEZONE
TZID:America/New_York
BEGIN:DAYLIGHT
TZOFFSETFROM:-0500
TZOFFSETTO:-0400
TZNAME:EDT
DTSTART:20240310T070000
END:DAYLIGHT
BEGIN:STANDARD
TZOFFSETFROM:-0400
TZOFFSETTO:-0500
TZNAME:EST
DTSTART:20241103T060000
END:STANDARD
BEGIN:DAYLIGHT
TZOFFSETFROM:-0500
TZOFFSETTO:-0400
TZNAME:EDT
DTSTART:20250309T070000
END:DAYLIGHT
BEGIN:STANDARD
TZOFFSETFROM:-0400
TZOFFSETTO:-0500
TZNAME:EST
DTSTART:20251102T060000
END:STANDARD
BEGIN:DAYLIGHT
TZOFFSETFROM:-0500
TZOFFSETTO:-0400
TZNAME:EDT
DTSTART:20260308T070000
END:DAYLIGHT
BEGIN:STANDARD
TZOFFSETFROM:-0400
TZOFFSETTO:-0500
TZNAME:EST
DTSTART:20261101T060000
END:STANDARD
END:VTIMEZONE
BEGIN:VEVENT
DTSTART;TZID=America/New_York:20251025T050000
DTEND;TZID=America/New_York:20251025T100000
DTSTAMP:20260423T210020
CREATED:20251016T043856Z
LAST-MODIFIED:20251016T043856Z
UID:1397-1761368400-1761386400@booksbysusanwgreen.com
SUMMARY:Conrad Alumni Craft Show
DESCRIPTION:Susan W. Green will be selling and signing books at the Conrad Alumni Craft Show. Conrad Alumni Association will hold their annual Craft Show on Saturday\, October 25\, 2025. Free Admission! Door prizes! Great vendors with unique\, quality items!! The Conrad Cafe will be offering food for purchase including Connie’s Sloppy Joe’s! Mark your calendars and bring a friend!! Love and Honor! Looking forward to seeing you there!
URL:https://booksbysusanwgreen.com/event/conrad-alumni-craft-show/
LOCATION:Conrad Schools of Science Gym\, 201 Jackson Ave\, Wilmington\, DE\, 19804\, United States
ATTACH;FMTTYPE=image/png:https://booksbysusanwgreen.com/wp-content/uploads/2025/10/7f1aaa13-4829-47f0-ad7c-cd56e358740a-e1760574781623.png
END:VEVENT
END:VCALENDAR