BEGIN:VCALENDAR
VERSION:2.0
PRODID:-//Books by Susan W. Green - ECPv6.15.20//NONSGML v1.0//EN
CALSCALE:GREGORIAN
METHOD:PUBLISH
X-WR-CALNAME:Books by Susan W. Green
X-ORIGINAL-URL:https://booksbysusanwgreen.com
X-WR-CALDESC:Events for Books by Susan W. Green
REFRESH-INTERVAL;VALUE=DURATION:PT1H
X-Robots-Tag:noindex
X-PUBLISHED-TTL:PT1H
BEGIN:VTIMEZONE
TZID:America/New_York
BEGIN:DAYLIGHT
TZOFFSETFROM:-0500
TZOFFSETTO:-0400
TZNAME:EDT
DTSTART:20240310T070000
END:DAYLIGHT
BEGIN:STANDARD
TZOFFSETFROM:-0400
TZOFFSETTO:-0500
TZNAME:EST
DTSTART:20241103T060000
END:STANDARD
BEGIN:DAYLIGHT
TZOFFSETFROM:-0500
TZOFFSETTO:-0400
TZNAME:EDT
DTSTART:20250309T070000
END:DAYLIGHT
BEGIN:STANDARD
TZOFFSETFROM:-0400
TZOFFSETTO:-0500
TZNAME:EST
DTSTART:20251102T060000
END:STANDARD
BEGIN:DAYLIGHT
TZOFFSETFROM:-0500
TZOFFSETTO:-0400
TZNAME:EDT
DTSTART:20260308T070000
END:DAYLIGHT
BEGIN:STANDARD
TZOFFSETFROM:-0400
TZOFFSETTO:-0500
TZNAME:EST
DTSTART:20261101T060000
END:STANDARD
END:VTIMEZONE
BEGIN:VEVENT
DTSTART;TZID=America/New_York:20251102T090000
DTEND;TZID=America/New_York:20251102T110000
DTSTAMP:20260423T191501
CREATED:20251016T044819Z
LAST-MODIFIED:20251024T051729Z
UID:1402-1762074000-1762081200@booksbysusanwgreen.com
SUMMARY:Author Spotlight at Dover Public Library
DESCRIPTION:Susan W. Green will be onsite at the Kent County Public Library on Sunday\, November 2nd from 2 pm to 4 pm signing and selling her books. Come and meet the author behind the Crystal Lake Series at this FREE event in central Delaware.
URL:https://booksbysusanwgreen.com/event/author-spotlight-at-dover-public-library/
LOCATION:Kent County Public Library\, 497 S Red Haven Ln\, Dover\, 19901\, United States
ATTACH;FMTTYPE=image/jpeg:https://booksbysusanwgreen.com/wp-content/uploads/2025/10/author-showcase-Dover-e1761268462470.jpg
END:VEVENT
BEGIN:VEVENT
DTSTART;TZID=America/New_York:20251108T070000
DTEND;TZID=America/New_York:20251108T110000
DTSTAMP:20260423T191501
CREATED:20250428T003526Z
LAST-MODIFIED:20250428T003526Z
UID:1314-1762585200-1762599600@booksbysusanwgreen.com
SUMMARY:Delaconn 2025
DESCRIPTION:Welcome to DelaConn 2025! This intimate and close-knit experience is truly Delaware’s Author Connection location! Find your next favorite author\, ask them questions\, connect and network\, and enjoy our bar service\, comfortable lobby\, and outdoor seating while you cherish your newest finds!
URL:https://booksbysusanwgreen.com/event/delaconn-2025/
LOCATION:Sonesta Select Newark Christiana Mall\, 48 Geoffrey Dr\, Newark\, DE\, 19713\, United States
ATTACH;FMTTYPE=image/png:https://booksbysusanwgreen.com/wp-content/uploads/2025/04/image.png
END:VEVENT
END:VCALENDAR