BEGIN:VCALENDAR
VERSION:2.0
PRODID:-//Books by Susan W. Green - ECPv6.15.20//NONSGML v1.0//EN
CALSCALE:GREGORIAN
METHOD:PUBLISH
X-ORIGINAL-URL:https://booksbysusanwgreen.com
X-WR-CALDESC:Events for Books by Susan W. Green
REFRESH-INTERVAL;VALUE=DURATION:PT1H
X-Robots-Tag:noindex
X-PUBLISHED-TTL:PT1H
BEGIN:VTIMEZONE
TZID:America/New_York
BEGIN:DAYLIGHT
TZOFFSETFROM:-0500
TZOFFSETTO:-0400
TZNAME:EDT
DTSTART:20250309T070000
END:DAYLIGHT
BEGIN:STANDARD
TZOFFSETFROM:-0400
TZOFFSETTO:-0500
TZNAME:EST
DTSTART:20251102T060000
END:STANDARD
BEGIN:DAYLIGHT
TZOFFSETFROM:-0500
TZOFFSETTO:-0400
TZNAME:EDT
DTSTART:20260308T070000
END:DAYLIGHT
BEGIN:STANDARD
TZOFFSETFROM:-0400
TZOFFSETTO:-0500
TZNAME:EST
DTSTART:20261101T060000
END:STANDARD
BEGIN:DAYLIGHT
TZOFFSETFROM:-0500
TZOFFSETTO:-0400
TZNAME:EDT
DTSTART:20270314T070000
END:DAYLIGHT
BEGIN:STANDARD
TZOFFSETFROM:-0400
TZOFFSETTO:-0500
TZNAME:EST
DTSTART:20271107T060000
END:STANDARD
END:VTIMEZONE
BEGIN:VEVENT
DTSTART;TZID=America/New_York:20260606T080000
DTEND;TZID=America/New_York:20260606T170000
DTSTAMP:20260423T144141
CREATED:20260314T142951Z
LAST-MODIFIED:20260314T153712Z
UID:1549-1780732800-1780765200@booksbysusanwgreen.com
SUMMARY:Newark Arts Alliance - Authors Forum
DESCRIPTION:More event details will be added as they become available. Thank you for your patience!
URL:https://booksbysusanwgreen.com/event/newark-arts-alliance-authors-forum/
LOCATION:Newark Arts Alliance\, 207 Louviers Ave. Shoppes at Louviers\, Newark\, 19711\, United States
ATTACH;FMTTYPE=image/png:https://booksbysusanwgreen.com/wp-content/uploads/2026/03/Newark-Arts-Alliance.png
ORGANIZER;CN="Newark Arts Alliance":MAILTO:info@newarkartsalliance.org
END:VEVENT
END:VCALENDAR